BEGIN:VCALENDAR
VERSION:2.0
PRODID:-// - ECPv5.14.1//NONSGML v1.0//EN
CALSCALE:GREGORIAN
METHOD:PUBLISH
X-ORIGINAL-URL:https://tkv-ruppin.de
X-WR-CALDESC:Veranstaltungen für 
BEGIN:VTIMEZONE
TZID:Europe/Berlin
BEGIN:DAYLIGHT
TZOFFSETFROM:+0100
TZOFFSETTO:+0200
TZNAME:CEST
DTSTART:20240331T010000
END:DAYLIGHT
BEGIN:STANDARD
TZOFFSETFROM:+0200
TZOFFSETTO:+0100
TZNAME:CET
DTSTART:20241027T010000
END:STANDARD
END:VTIMEZONE
BEGIN:VEVENT
DTSTART;TZID=Europe/Berlin:20240629T100000
DTEND;TZID=Europe/Berlin:20240629T120000
DTSTAMP:20260420T123126
CREATED:20240126T143634Z
LAST-MODIFIED:20240126T143634Z
UID:6177-1719655200-1719662400@tkv-ruppin.de
SUMMARY:Aikido Samuraikids Trainingssamstag
DESCRIPTION:
URL:https://tkv-ruppin.de/event/aikido-samuraikids-trainingssamstag-6/
LOCATION:Sportcenter Neuruppin\, Trenckmannstraße 14\, Neuruppin\, 16816
CATEGORIES:Aikido,Alle
END:VEVENT
END:VCALENDAR