BEGIN:VCALENDAR
VERSION:2.0
PRODID:-// - ECPv5.14.1//NONSGML v1.0//EN
CALSCALE:GREGORIAN
METHOD:PUBLISH
X-ORIGINAL-URL:https://tkv-ruppin.de
X-WR-CALDESC:Veranstaltungen für 
BEGIN:VTIMEZONE
TZID:Europe/Berlin
BEGIN:DAYLIGHT
TZOFFSETFROM:+0100
TZOFFSETTO:+0200
TZNAME:CEST
DTSTART:20190331T010000
END:DAYLIGHT
BEGIN:STANDARD
TZOFFSETFROM:+0200
TZOFFSETTO:+0100
TZNAME:CET
DTSTART:20191027T010000
END:STANDARD
END:VTIMEZONE
BEGIN:VEVENT
DTSTART;VALUE=DATE:20190921
DTEND;VALUE=DATE:20190922
DTSTAMP:20260420T123058
CREATED:20190711T202650Z
LAST-MODIFIED:20190711T202650Z
UID:1760-1569024000-1569110399@tkv-ruppin.de
SUMMARY:Erlebnistraining Samurai Kids
DESCRIPTION:
URL:https://tkv-ruppin.de/event/erlebnistraining-samurai-kids-2/
CATEGORIES:Aikido
END:VEVENT
END:VCALENDAR