BEGIN:VCALENDAR
VERSION:2.0
PRODID:-// - ECPv5.14.1//NONSGML v1.0//EN
CALSCALE:GREGORIAN
METHOD:PUBLISH
X-ORIGINAL-URL:https://tkv-ruppin.de
X-WR-CALDESC:Veranstaltungen für 
BEGIN:VTIMEZONE
TZID:Europe/Berlin
BEGIN:DAYLIGHT
TZOFFSETFROM:+0100
TZOFFSETTO:+0200
TZNAME:CEST
DTSTART:20190331T010000
END:DAYLIGHT
BEGIN:STANDARD
TZOFFSETFROM:+0200
TZOFFSETTO:+0100
TZNAME:CET
DTSTART:20191027T010000
END:STANDARD
END:VTIMEZONE
BEGIN:VEVENT
DTSTART;TZID=Europe/Berlin:20190930T193000
DTEND;TZID=Europe/Berlin:20190930T210000
DTSTAMP:20260424T124757
CREATED:20190711T201721Z
LAST-MODIFIED:20190711T201721Z
UID:1750-1569871800-1569877200@tkv-ruppin.de
SUMMARY:Karate SV Training
DESCRIPTION:
URL:https://tkv-ruppin.de/event/karate-sv-training-2/
LOCATION:Sportcenter Neuruppin\, Trenckmannstraße 14\, Neuruppin\, 16816
CATEGORIES:Karate
END:VEVENT
END:VCALENDAR