BEGIN:VCALENDAR
VERSION:2.0
PRODID:-// - ECPv5.14.1//NONSGML v1.0//EN
CALSCALE:GREGORIAN
METHOD:PUBLISH
X-ORIGINAL-URL:https://tkv-ruppin.de
X-WR-CALDESC:Veranstaltungen für 
BEGIN:VTIMEZONE
TZID:Europe/Berlin
BEGIN:DAYLIGHT
TZOFFSETFROM:+0100
TZOFFSETTO:+0200
TZNAME:CEST
DTSTART:20200329T010000
END:DAYLIGHT
BEGIN:STANDARD
TZOFFSETFROM:+0200
TZOFFSETTO:+0100
TZNAME:CET
DTSTART:20201025T010000
END:STANDARD
END:VTIMEZONE
BEGIN:VEVENT
DTSTART;TZID=Europe/Berlin:20200328T100000
DTEND;TZID=Europe/Berlin:20200328T143000
DTSTAMP:20260424T104115
CREATED:20200130T184850Z
LAST-MODIFIED:20200130T184850Z
UID:2297-1585389600-1585405800@tkv-ruppin.de
SUMMARY:RSDc Seminar Selbstverteidigung
DESCRIPTION:
URL:https://tkv-ruppin.de/event/rsdc-seminar-selbstverteidigung-2/
LOCATION:Sportcenter Neuruppin\, Trenckmannstraße 14\, Neuruppin\, 16816
CATEGORIES:Aikido,Alle,Jiu Jitsu,Karate,Tauchen
END:VEVENT
END:VCALENDAR